



BEGIN:VCALENDAR
VERSION:2.0
PRODID:-//Merefield School - ECPv6.15.18//NONSGML v1.0//EN
CALSCALE:GREGORIAN
METHOD:PUBLISH
X-ORIGINAL-URL:https://merefieldschool.co.uk
X-WR-CALDESC:Events for Merefield School
REFRESH-INTERVAL;VALUE=DURATION:PT1H
X-Robots-Tag:noindex
X-PUBLISHED-TTL:PT1H
BEGIN:VTIMEZONE
TZID:UTC
BEGIN:STANDARD
TZOFFSETFROM:+0000
TZOFFSETTO:+0000
TZNAME:UTC
DTSTART:20250101T000000
END:STANDARD
END:VTIMEZONE
BEGIN:VEVENT
DTSTART;VALUE=DATE:20260304
DTEND;VALUE=DATE:20260305
DTSTAMP:20260420T212012
CREATED:20260303T114849Z
LAST-MODIFIED:20260303T114849Z
UID:10000042-1772582400-1772668799@merefieldschool.co.uk
SUMMARY:World Book Day
DESCRIPTION:For World Book Day\, our school will be celebrating with a special “Dress as Your Favourite Book Character” day! This is a wonderful opportunity for children to share their love of reading by coming to school dressed as a character from their favourite story. Costumes can be simple and creative – you could use items you already have at home to bring much-loved characters to life. Throughout the day\, pupils will take part in fun reading activities\, share their favourite books with friends\, and celebrate the joy of stories together. We can’t wait to see all the fantastic characters walking through our doors! 📚
URL:https://merefieldschool.co.uk/event/world-book-day/
END:VEVENT
BEGIN:VEVENT
DTSTART;TZID=UTC:20260306T100000
DTEND;TZID=UTC:20260306T110000
DTSTAMP:20260420T212012
CREATED:20260303T151616Z
LAST-MODIFIED:20260303T151616Z
UID:10000043-1772791200-1772794800@merefieldschool.co.uk
SUMMARY:Enterprise Craft Fair
DESCRIPTION:Parents\, carers and friends of the school are invited to join us at our annual craft fair on Friday 6th March at 10am.
URL:https://merefieldschool.co.uk/event/enterprise-craft-fair/
ATTACH;FMTTYPE=image/jpeg:https://merefieldschool.co.uk/wp-content/uploads/2026/03/Enterprise-fair-2026.jpg
END:VEVENT
BEGIN:VEVENT
DTSTART;TZID=UTC:20260316T093000
DTEND;TZID=UTC:20260316T103000
DTSTAMP:20260420T212012
CREATED:20260313T153233Z
LAST-MODIFIED:20260313T153233Z
UID:10000044-1773653400-1773657000@merefieldschool.co.uk
SUMMARY:M&M Theatre
DESCRIPTION:
URL:https://merefieldschool.co.uk/event/mm-theatre/
END:VEVENT
BEGIN:VEVENT
DTSTART;VALUE=DATE:20260327
DTEND;VALUE=DATE:20260414
DTSTAMP:20260420T212012
CREATED:20260227T122957Z
LAST-MODIFIED:20260227T122957Z
UID:10000026-1774569600-1776124799@merefieldschool.co.uk
SUMMARY:Easter Holidays
DESCRIPTION:
URL:https://merefieldschool.co.uk/event/easter-holidays/
END:VEVENT
BEGIN:VEVENT
DTSTART;VALUE=DATE:20260504
DTEND;VALUE=DATE:20260505
DTSTAMP:20260420T212012
CREATED:20260227T123237Z
LAST-MODIFIED:20260227T123237Z
UID:10000027-1777852800-1777939199@merefieldschool.co.uk
SUMMARY:May Day Holiday
DESCRIPTION:
URL:https://merefieldschool.co.uk/event/may-day-holiday/
END:VEVENT
BEGIN:VEVENT
DTSTART;VALUE=DATE:20260525
DTEND;VALUE=DATE:20260601
DTSTAMP:20260420T212012
CREATED:20260227T123406Z
LAST-MODIFIED:20260227T123406Z
UID:10000028-1779667200-1780271999@merefieldschool.co.uk
SUMMARY:May Half Term
DESCRIPTION:
URL:https://merefieldschool.co.uk/event/may-half-term/
END:VEVENT
BEGIN:VEVENT
DTSTART;VALUE=DATE:20260717
DTEND;VALUE=DATE:20260718
DTSTAMP:20260420T212012
CREATED:20260227T123625Z
LAST-MODIFIED:20260227T123625Z
UID:10000029-1784246400-1784332799@merefieldschool.co.uk
SUMMARY:Break Up For Summer Holidays
DESCRIPTION:Students will finish at 2pm
URL:https://merefieldschool.co.uk/event/break-up-for-summer-holidays/
END:VEVENT
BEGIN:VEVENT
DTSTART;VALUE=DATE:20260720
DTEND;VALUE=DATE:20260721
DTSTAMP:20260420T212012
CREATED:20260227T123951Z
LAST-MODIFIED:20260227T123951Z
UID:10000030-1784505600-1784591999@merefieldschool.co.uk
SUMMARY:INSET Day
DESCRIPTION:
URL:https://merefieldschool.co.uk/event/inset-day/
END:VEVENT
BEGIN:VEVENT
DTSTART;VALUE=DATE:20260901
DTEND;VALUE=DATE:20260903
DTSTAMP:20260420T212012
CREATED:20260227T124245Z
LAST-MODIFIED:20260227T124245Z
UID:10000032-1788220800-1788393599@merefieldschool.co.uk
SUMMARY:INSET Days
DESCRIPTION:
URL:https://merefieldschool.co.uk/event/inset-days/
END:VEVENT
BEGIN:VEVENT
DTSTART;VALUE=DATE:20260903
DTEND;VALUE=DATE:20260904
DTSTAMP:20260420T212012
CREATED:20260227T124125Z
LAST-MODIFIED:20260227T124125Z
UID:10000031-1788393600-1788479999@merefieldschool.co.uk
SUMMARY:Start of Autumn Term
DESCRIPTION:
URL:https://merefieldschool.co.uk/event/start-of-autumn-term/
END:VEVENT
BEGIN:VEVENT
DTSTART;TZID=UTC:20261026T080000
DTEND;TZID=UTC:20261101T170000
DTSTAMP:20260420T212012
CREATED:20260227T124452Z
LAST-MODIFIED:20260227T124452Z
UID:10000033-1793001600-1793552400@merefieldschool.co.uk
SUMMARY:Autumn Half Term
DESCRIPTION:
URL:https://merefieldschool.co.uk/event/autumn-half-term/
END:VEVENT
BEGIN:VEVENT
DTSTART;VALUE=DATE:20261218
DTEND;VALUE=DATE:20261219
DTSTAMP:20260420T212012
CREATED:20260227T124757Z
LAST-MODIFIED:20260227T124757Z
UID:10000034-1797552000-1797638399@merefieldschool.co.uk
SUMMARY:Break up for Christmas Holidays
DESCRIPTION:Students will finish at 2pm
URL:https://merefieldschool.co.uk/event/break-up-for-christmas-holidays/
END:VEVENT
BEGIN:VEVENT
DTSTART;VALUE=DATE:20270104
DTEND;VALUE=DATE:20270105
DTSTAMP:20260420T212012
CREATED:20260227T124910Z
LAST-MODIFIED:20260227T124910Z
UID:10000035-1799020800-1799107199@merefieldschool.co.uk
SUMMARY:INSET Day
DESCRIPTION:
URL:https://merefieldschool.co.uk/event/inset-day-2/
END:VEVENT
BEGIN:VEVENT
DTSTART;VALUE=DATE:20270222
DTEND;VALUE=DATE:20270301
DTSTAMP:20260420T212012
CREATED:20260227T125154Z
LAST-MODIFIED:20260227T125154Z
UID:10000036-1803254400-1803859199@merefieldschool.co.uk
SUMMARY:Spring Half Term
DESCRIPTION:
URL:https://merefieldschool.co.uk/event/spring-half-term/
END:VEVENT
BEGIN:VEVENT
DTSTART;VALUE=DATE:20270325
DTEND;VALUE=DATE:20270326
DTSTAMP:20260420T212012
CREATED:20260227T125547Z
LAST-MODIFIED:20260227T125547Z
UID:10000037-1805932800-1806019199@merefieldschool.co.uk
SUMMARY:Break Up for Easter Holidays
DESCRIPTION:Students finish at 2pm
URL:https://merefieldschool.co.uk/event/break-up-for-easter-holidays/
END:VEVENT
BEGIN:VEVENT
DTSTART;VALUE=DATE:20270503
DTEND;VALUE=DATE:20270504
DTSTAMP:20260420T212012
CREATED:20260227T125814Z
LAST-MODIFIED:20260227T125814Z
UID:10000038-1809302400-1809388799@merefieldschool.co.uk
SUMMARY:May Day Holiday
DESCRIPTION:
URL:https://merefieldschool.co.uk/event/may-day-holiday-2/
END:VEVENT
BEGIN:VEVENT
DTSTART;VALUE=DATE:20270531
DTEND;VALUE=DATE:20270607
DTSTAMP:20260420T212012
CREATED:20260227T125957Z
LAST-MODIFIED:20260227T125957Z
UID:10000039-1811721600-1812326399@merefieldschool.co.uk
SUMMARY:May Half Term
DESCRIPTION:
URL:https://merefieldschool.co.uk/event/may-half-term-2/
END:VEVENT
BEGIN:VEVENT
DTSTART;VALUE=DATE:20270716
DTEND;VALUE=DATE:20270717
DTSTAMP:20260420T212012
CREATED:20260227T130133Z
LAST-MODIFIED:20260227T130133Z
UID:10000040-1815696000-1815782399@merefieldschool.co.uk
SUMMARY:Break up for Summer Holidays
DESCRIPTION:Students finish at 2pm
URL:https://merefieldschool.co.uk/event/break-up-for-summer-holidays-2/
END:VEVENT
BEGIN:VEVENT
DTSTART;VALUE=DATE:20270719
DTEND;VALUE=DATE:20270722
DTSTAMP:20260420T212012
CREATED:20260227T130246Z
LAST-MODIFIED:20260227T130246Z
UID:10000041-1815955200-1816214399@merefieldschool.co.uk
SUMMARY:INSET Days
DESCRIPTION:
URL:https://merefieldschool.co.uk/event/inset-days-2/
END:VEVENT
END:VCALENDAR